Workbook

Sheet Data
A4: Database Onsite Observations
A5: Museum: [name of museum] | O5: Social Interactions
A6: Station: [name of station/activity under observation]
C9: Visitors at station | K9: Space | AA9: Behaviors
C10: Adults | E10: Children | I10: Repeat visitors | K10: Attendance level interactive space | N10: School groups | O10: Within other visitors | T10: Individual | V10: With Staff | AA10: Using objects from other stations | AC10: Technologies
A11: Date mm/dd/yy | B11: Observation start time (30 min time slots) h:min PM/AM | C11: Total Males | D11: Total Females | E11: Total Boys | F11: Total Girls | G11: Total under age 5 | H11: Total aged between 5 - 12 | I11: No. who visit, look and leave | J11: Number of repeat visitors | K11: 0-30% | L11: 30-50% | M11: 60 - 100%+ | N11: Present Yes =1 No=0 | O11: IC | P11: A → C | Q11: C→ A | R11: C → C | S11: A → A | T11: A | U11: C | V11: A → S | W11: S→ A | X11: C→ S | Y11: S→ C | Z11: TOTALS | AA11: Yes | AB11: No | AC11: Uncomfortable | AD11: Comfortable | AE11: Very Comfortable | AF11: Notes
A15: First Observation
O16: 1 | Z16: =SUM(P16:Y16) -> 0 | AB16: =(C16+D16+E16+F16)-AA16 -> 0
O17: 2 | Z17: =SUM(P17:Y17) -> 0
O18: 3 | Z18: =SUM(P18:Y18) -> 0
O19: 4 | Z19: =SUM(P19:Y19) -> 0
O20: 5 | Z20: =SUM(P20:Y20) -> 0
N21: =N16 -> 0 | O21: Totals | P21: =SUM(P16:P20) -> 0 | Q21: =SUM(Q16:Q20) -> 0 | R21: =SUM(R16:R20) -> 0 | S21: =SUM(S16:S20) -> 0 | T21: =SUM(T16:T20) -> 0 | U21: =SUM(U16:U20) -> 0 | V21: =SUM(V16:V20) -> 0 | W21: =SUM(W16:W20) -> 0 | ... Y21: =SUM(Y16:Y20) -> 0 | Z21: =SUM(P21:Y21) -> 0 | AA21: =SUM(AA17:AA20) -> 0 | AB21: =SUM(AB17:AB20) -> 0 | AC21: =SUM(AC17:AC20) -> 0 | AD21: =SUM(AD17:AD20) -> 0 | AE21: =SUM(AE17:AE20) -> 0
A22: Second Observation
O23: 1 | Z23: =SUM(P23:Y23) -> 0 | AB23: =(C23+D23+E23+F23)-AA23 -> 0
O24: 2 | Z24: =SUM(P24:Y24) -> 0
O25: 3 | Z25: =SUM(P25:Y25) -> 0
O26: 4 | Z26: =SUM(P26:Y26) -> 0
O27: 5 | Z27: =SUM(P27:Y27) -> 0
N28: =N23 -> 0 | O28: Totals | P28: =SUM(P23:P27) -> 0 | Q28: =SUM(Q23:Q27) -> 0 | R28: =SUM(R23:R27) -> 0 | S28: =SUM(S23:S27) -> 0 | T28: =SUM(T23:T27) -> 0 | U28: =SUM(U23:U27) -> 0 | V28: =SUM(V23:V27) -> 0 | W28: =SUM(W23:W27) -> 0 | ... Y28: =SUM(Y23:Y27) -> 0 | Z28: =SUM(P28:Y28) -> 0 | AA28: =SUM(AA24:AA27) -> 0 | AB28: =SUM(AB24:AB27) -> 0 | AC28: =SUM(AC24:AC27) -> 0 | AD28: =SUM(AD24:AD27) -> 0 | AE28: =SUM(AE24:AE27) -> 0
A29: Third observation
O30: 1 | Z30: =SUM(P30:Y30) -> 0 | AB30: =(C30+D30+E30+F30)-AA30 -> 0
O31: 2 | Z31: =SUM(P31:Y31) -> 0
O32: 3 | Z32: =SUM(P32:Y32) -> 0
O33: 4 | Z33: =SUM(P33:Y33) -> 0
O34: 5 | Z34: =SUM(P34:Y34) -> 0
N35: =N30 -> 0 | O35: Totals | P35: =SUM(P30:P34) -> 0 | Q35: =SUM(Q30:Q34) -> 0 | R35: =SUM(R30:R34) -> 0 | S35: =SUM(S30:S34) -> 0 | T35: =SUM(T30:T34) -> 0 | U35: =SUM(U30:U34) -> 0 | V35: =SUM(V30:V34) -> 0 | W35: =SUM(W30:W34) -> 0 | ... Y35: =SUM(Y30:Y34) -> 0 | Z35: =SUM(P35:Y35) -> 0 | AA35: =SUM(AA31:AA34) -> 0 | AB35: =SUM(AB31:AB34) -> 0 | AC35: =SUM(AC31:AC34) -> 0 | AD35: =SUM(AD31:AD34) -> 0 | AE35: =SUM(AE31:AE34) -> 0
A36: Fourth Observation
O37: 1 | Z37: =SUM(P37:Y37) -> 0 | AB37: =(C37+D37+E37+F37)-AA37 -> 0
O38: 2 | Z38: =SUM(P38:Y38) -> 0
O39: 3 | Z39: =SUM(P39:Y39) -> 0
O40: 4 | Z40: =SUM(P40:Y40) -> 0
O41: 5 | Z41: =SUM(P41:Y41) -> 0
N42: =N37 -> 0 | O42: Totals | P42: =SUM(P37:P41) -> 0 | Q42: =SUM(Q37:Q41) -> 0 | R42: =SUM(R37:R41) -> 0 | S42: =SUM(S37:S41) -> 0 | T42: =SUM(T37:T41) -> 0 | U42: =SUM(U37:U41) -> 0 | V42: =SUM(V37:V41) -> 0 | W42: =SUM(W37:W41) -> 0 | ... Y42: =SUM(Y37:Y41) -> 0 | Z42: =SUM(P42:Y42) -> 0 | AA42: =SUM(AA38:AA41) -> 0 | AB42: =SUM(AB38:AB41) -> 0 | AC42: =SUM(AC38:AC41) -> 0 | AD42: =SUM(AD38:AD41) -> 0 | AE42: =SUM(AE38:AE41) -> 0
A43: Fifth Observation
O44: 1 | Z44: =SUM(P44:Y44) -> 0 | AB44: =(C44+D44+E44+F44)-AA44 -> 0
O45: 2 | Z45: =SUM(P45:Y45) -> 0
O46: 3 | Z46: =SUM(P46:Y46) -> 0
O47: 4 | Z47: =SUM(P47:Y47) -> 0
O48: 5 | Z48: =SUM(P48:Y48) -> 0
...

Sheet Summary
A4: Observations: Summary
A5: Museum: [name of museum]
A6: Station: [name of station/activity under observation]
B9: Visitors at Station and Space summary | P9: Visitation
B10: Total Males | C10: Total Females | D10: Total Boys | E10: Total Girls | F10: Total under age 5 | G10: Total aged between 5 - 12 | H10: No. who visit, look and leave | I10: Number of repeat visitors | J10: 0-30% | K10: 30-50% | L10: 50 - 100%+ | M10: School Group Present Yes =1 No=0 | P10: No. who visit, look and leave | Q10: Number of repeat visitors | R10: Actual Visitors | S10: Total Visits
B11: =Data!C16+Data!C23+Data!C30+Data!C37+Data!C44+Data!C51+Data!C58+Data!C65+Data!C72+Data!C79+Data!C86+Data!C93 -> 0 | C11: =Data!D16+Data!D23+Data!D30+Data!D37+Data!D44+Data!D51+Data!D58+Data!D65+Data!D72+Data!D79+Data!D86+Data!D93 -> 0 | D11: =Data!E16+Data!E23+Data!E30+Data!E37+Data!E44+Data!E51+Data!E58+Data!E65+Data!E72+Data!E79+Data!E86+Data!E93 -> 0 | E11: =Data!F16+Data!F23+Data!F30+Data!F37+Data!F44+Data!F51+Data!F58+Data!F65+Data!F72+Data!F79+Data!F86+Data!F93 -> 0 | F11: =Data!G16+Data!G23+Data!G30+Data!G37+Data!G44+Data!G51+Data!G58+Data!G65+Data!G72+Data!G79+Data!G86+Data!G93 -> 0 | G11: =Data!H16+Data!H23+Data!H30+Data!H37+Data!H44+Data!H51+Data!H58+Data!H65+Data!H72+Data!H79+Data!H86+Data!H93 -> 0 | H11: =Data!I16+Data!I23+Data!I30+Data!I37+Data!I44+Data!I51+Data!I58+Data!I65+Data!I72+Data!I79+Data!I86+Data!I93 -> 0 | I11: =Data!J16+Data!J23+Data!J30+Data!J37+Data!J44+Data!J51+Data!J58+Data!J65+Data!J72+Data!J79+Data!J86+Data!J93 -> 0 | ... L11: =Data!M16+Data!M23+Data!M30+Data!M37+Data!M44+Data!M51+Data!M58+Data!M65+Data!M72+Data!M79+Data!M86+Data!M93 -> 0 | M11: =Data!N21+Data!N28+Data!N35+Data!N42+Data!N49+Data!N56+Data!N63+Data!N70+Data!N77+Data!N84+Data!N91+Data!N98 -> 0 | P11: =H11 -> 0 | Q11: =I11 -> 0 | R11: =B15 -> 0 | S11: 0
O12: % of total visits | P12: =P11/S11 -> #DIV/0! | Q12: =Q11/S11 -> #DIV/0!
A13: Males and Females | B13: =B11+C11 -> 0 | O13: % of actual visits | Q13: =Q11/R11 -> #DIV/0!
A14: Girls and boys | B14: =D11+E11 -> 0
A15: Total Sample number | B15: =SUM(B13:B14) -> 0 | P15: Attendance Level
P16: 0-30% | Q16: 30-50% | R16: 50 - 100%+ | S16: Totals
A17: Under 5 years | B17: =F11 -> 0 | P17: =J11 -> 0 | Q17: =K11 -> 0 | R17: =L11 -> 0 | S17: =SUM(P17:R17) -> 0
A18: 5 - 12 years | B18: =G11 -> 0 | O18: % of attendance level | P18: =P17/S17 -> #DIV/0! | Q18: =Q17/S17 -> #DIV/0! | R18: =R17/S17 -> #DIV/0!
A19: Total Number of Children | B19: =SUM(B17:B18) -> 0
P20: School Group Present | Q20: Number of days observing
C21: NOTE: The #DIV/0! Will go away once numbers are entered in the "Data" tab worksheet | P21: =M11 -> 0 | Q21: =Data!B100 -> 0
P22: =P21/Q21 -> #DIV/0!
C29: Social Interactions summary
C30: A → C | D30: C→ A | E30: C → C | F30: A → A | G30: A | H30: C | I30: A → S | J30: S→ A | K30: C→ S | L30: S→ C | M30: TOTALS | P30: Connection | Q30: Observing others | R30: Read | S30: Directed | T30: Self-initiated
B31: 1 | C31: =Data!P16+Data!P23+Data!P30+Data!P37+Data!P44+Data!P51+Data!P58+Data!P65+Data!P72+Data!P79+Data!P86+Data!P93 -> 0 | D31: =Data!Q16+Data!Q23+Data!Q30+Data!Q37+Data!Q44+Data!Q51+Data!Q58+Data!Q65+Data!Q72+Data!Q79+Data!Q86+Data!Q93 -> 0 | E31: =Data!R16+Data!R23+Data!R30+Data!R37+Data!R44+Data!R51+Data!R58+Data!R65+Data!R72+Data!R79+Data!R86+Data!R93 -> 0 | F31: =Data!S16+Data!S23+Data!S30+Data!S37+Data!S44+Data!S51+Data!S58+Data!S65+Data!S72+Data!S79+Data!S86+Data!S93 -> 0 | G31: =Data!T16+Data!T23+Data!T30+Data!T37+Data!T44+Data!T51+Data!T58+Data!T65+Data!T72+Data!T79+Data!T86+Data!T93 -> 0 | H31: =Data!U16+Data!U23+Data!U30+Data!U37+Data!U44+Data!U51+Data!U58+Data!U65+Data!U72+Data!U79+Data!U86+Data!U93 -> 0 | I31: =Data!V16+Data!V23+Data!V30+Data!V37+Data!V44+Data!V51+Data!V58+Data!V65+Data!V72+Data!V79+Data!V86+Data!V93 -> 0 | J31: =Data!W16+Data!W23+Data!W30+Data!W37+Data!W44+Data!W51+Data!W58+Data!W65+Data!W72+Data!W79+Data!W86+Data!W93 -> 0 | ... L31: =Data!Y16+Data!Y23+Data!Y30+Data!Y37+Data!Y44+Data!Y51+Data!Y58+Data!Y65+Data!Y72+Data!Y79+Data!Y86+Data!Y93 -> 0 | M31: =SUM(C31:L31) -> 0 | N31: =M31/M36 -> #DIV/0! | P31: =N31 -> #DIV/0! | Q31: =N32 -> #DIV/0! | R31: =N33 -> #DIV/0! | S31: =N34 -> #DIV/0! | T31: =N35 -> #DIV/0!
B32: 2 | C32: =Data!P17+Data!P24+Data!P31+Data!P38+Data!P45+Data!P52+Data!P59+Data!P66+Data!P73+Data!P80+Data!P87+Data!P94 -> 0 | D32: =Data!Q17+Data!Q24+Data!Q31+Data!Q38+Data!Q45+Data!Q52+Data!Q59+Data!Q66+Data!Q73+Data!Q80+Data!Q87+Data!Q94 -> 0 | E32: =Data!R17+Data!R24+Data!R31+Data!R38+Data!R45+Data!R52+Data!R59+Data!R66+Data!R73+Data!R80+Data!R87+Data!R94 -> 0 | F32: =Data!S17+Data!S24+Data!S31+Data!S38+Data!S45+Data!S52+Data!S59+Data!S66+Data!S73+Data!S80+Data!S87+Data!S94 -> 0 | G32: =Data!T17+Data!T24+Data!T31+Data!T38+Data!T45+Data!T52+Data!T59+Data!T66+Data!T73+Data!T80+Data!T87+Data!T94 -> 0 | H32: =Data!U17+Data!U24+Data!U31+Data!U38+Data!U45+Data!U52+Data!U59+Data!U66+Data!U73+Data!U80+Data!U87+Data!U94 -> 0 | I32: =Data!V17+Data!V24+Data!V31+Data!V38+Data!V45+Data!V52+Data!V59+Data!V66+Data!V73+Data!V80+Data!V87+Data!V94 -> 0 | J32: =Data!W17+Data!W24+Data!W31+Data!W38+Data!W45+Data!W52+Data!W59+Data!W66+Data!W73+Data!W80+Data!W87+Data!W94 -> 0 | ... M32: =Data!Z17+Data!Z24+Data!Z31+Data!Z38+Data!Z45+Data!Z52+Data!Z59+Data!Z66+Data!Z73+Data!Z80+Data!Z87+Data!Z94 -> 0 | N32: =M32/M36 -> #DIV/0!
B33: 3 | C33: =Data!P18+Data!P25+Data!P32+Data!P39+Data!P46+Data!P53+Data!P60+Data!P67+Data!P74+Data!P81+Data!P88+Data!P95 -> 0 | D33: =Data!Q18+Data!Q25+Data!Q32+Data!Q39+Data!Q46+Data!Q53+Data!Q60+Data!Q67+Data!Q74+Data!Q81+Data!Q88+Data!Q95 -> 0 | E33: =Data!R18+Data!R25+Data!R32+Data!R39+Data!R46+Data!R53+Data!R60+Data!R67+Data!R74+Data!R81+Data!R88+Data!R95 -> 0 | F33: =Data!S18+Data!S25+Data!S32+Data!S39+Data!S46+Data!S53+Data!S60+Data!S67+Data!S74+Data!S81+Data!S88+Data!S95 -> 0 | G33: =Data!T18+Data!T25+Data!T32+Data!T39+Data!T46+Data!T53+Data!T60+Data!T67+Data!T74+Data!T81+Data!T88+Data!T95 -> 0 | H33: =Data!U18+Data!U25+Data!U32+Data!U39+Data!U46+Data!U53+Data!U60+Data!U67+Data!U74+Data!U81+Data!U88+Data!U95 -> 0 | I33: =Data!V18+Data!V25+Data!V32+Data!V39+Data!V46+Data!V53+Data!V60+Data!V67+Data!V74+Data!V81+Data!V88+Data!V95 -> 0 | J33: =Data!W18+Data!W25+Data!W32+Data!W39+Data!W46+Data!W53+Data!W60+Data!W67+Data!W74+Data!W81+Data!W88+Data!W95 -> 0 | ... M33: =Data!Z18+Data!Z25+Data!Z32+Data!Z39+Data!Z46+Data!Z53+Data!Z60+Data!Z67+Data!Z74+Data!Z81+Data!Z88+Data!Z95 -> 0 | N33: =M33/M36 -> #DIV/0!
B34: 4 | C34: =Data!P19+Data!P26+Data!P33+Data!P40+Data!P47+Data!P54+Data!P61+Data!P68+Data!P75+Data!P82+Data!P89+Data!P96 -> 0 | D34: =Data!Q19+Data!Q26+Data!Q33+Data!Q40+Data!Q47+Data!Q54+Data!Q61+Data!Q68+Data!Q75+Data!Q82+Data!Q89+Data!Q96 -> 0 | E34: =Data!R19+Data!R26+Data!R33+Data!R40+Data!R47+Data!R54+Data!R61+Data!R68+Data!R75+Data!R82+Data!R89+Data!R96 -> 0 | F34: =Data!S19+Data!S26+Data!S33+Data!S40+Data!S47+Data!S54+Data!S61+Data!S68+Data!S75+Data!S82+Data!S89+Data!S96 -> 0 | G34: =Data!T19+Data!T26+Data!T33+Data!T40+Data!T47+Data!T54+Data!T61+Data!T68+Data!T75+Data!T82+Data!T89+Data!T96 -> 0 | H34: =Data!U19+Data!U26+Data!U33+Data!U40+Data!U47+Data!U54+Data!U61+Data!U68+Data!U75+Data!U82+Data!U89+Data!U96 -> 0 | I34: =Data!V19+Data!V26+Data!V33+Data!V40+Data!V47+Data!V54+Data!V61+Data!V68+Data!V75+Data!V82+Data!V89+Data!V96 -> 0 | J34: =Data!W19+Data!W26+Data!W33+Data!W40+Data!W47+Data!W54+Data!W61+Data!W68+Data!W75+Data!W82+Data!W89+Data!W96 -> 0 | ... M34: =Data!Z19+Data!Z26+Data!Z33+Data!Z40+Data!Z47+Data!Z54+Data!Z61+Data!Z68+Data!Z75+Data!Z82+Data!Z89+Data!Z96 -> 0 | N34: =M34/M36 -> #DIV/0!
B35: 5 | C35: =Data!P20+Data!P27+Data!P34+Data!P41+Data!P48+Data!P55+Data!P62+Data!P69+Data!P76+Data!P83+Data!P90+Data!P97 -> 0 | D35: =Data!Q20+Data!Q27+Data!Q34+Data!Q41+Data!Q48+Data!Q55+Data!Q62+Data!Q69+Data!Q76+Data!Q83+Data!Q90+Data!Q97 -> 0 | E35: =Data!R20+Data!R27+Data!R34+Data!R41+Data!R48+Data!R55+Data!R62+Data!R69+Data!R76+Data!R83+Data!R90+Data!R97 -> 0 | F35: =Data!S20+Data!S27+Data!S34+Data!S41+Data!S48+Data!S55+Data!S62+Data!S69+Data!S76+Data!S83+Data!S90+Data!S97 -> 0 | G35: =Data!T20+Data!T27+Data!T34+Data!T41+Data!T48+Data!T55+Data!T62+Data!T69+Data!T76+Data!T83+Data!T90+Data!T97 -> 0 | H35: =Data!U20+Data!U27+Data!U34+Data!U41+Data!U48+Data!U55+Data!U62+Data!U69+Data!U76+Data!U83+Data!U90+Data!U97 -> 0 | I35: =Data!V20+Data!V27+Data!V34+Data!V41+Data!V48+Data!V55+Data!V62+Data!V69+Data!V76+Data!V83+Data!V90+Data!V97 -> 0 | J35: =Data!W20+Data!W27+Data!W34+Data!W41+Data!W48+Data!W55+Data!W62+Data!W69+Data!W76+Data!W83+Data!W90+Data!W97 -> 0 | ... M35: =Data!Z20+Data!Z27+Data!Z34+Data!Z41+Data!Z48+Data!Z55+Data!Z62+Data!Z69+Data!Z76+Data!Z83+Data!Z90+Data!Z97 -> 0 | N35: =M35/M36 -> #DIV/0!
C36: =SUM(C31:C35) -> 0 | D36: =SUM(D31:D35) -> 0 | E36: =SUM(E31:E35) -> 0 | F36: =SUM(F31:F35) -> 0 | G36: =SUM(G31:G35) -> 0 | H36: =SUM(H31:H35) -> 0 | I36: =SUM(I31:I35) -> 0 | J36: =SUM(J31:J35) -> 0 | ... M36: =SUM(M31:M35) -> 0
C37: =C36/M36 -> #DIV/0! | D37: =D36/M36 -> #DIV/0! | E37: =E36/M36 -> #DIV/0! | F37: =F36/M36 -> #DIV/0! | G37: =G36/M36 -> #DIV/0! | H37: =H36/M36 -> #DIV/0! | I37: =I36/M36 -> #DIV/0! | J37: =J36/M36 -> #DIV/0! | K37: =K36/M36 -> #DIV/0! | L37: =L36/M36 -> #DIV/0!
C40: Social Interactions summary as a percentage
C41: A → C | D41: C→ A | E41: C → C | F41: A → A | G41: A | H41: C | I41: A → S | J41: S→ A | K41: C→ S | L41: S→ C | M41: Totals
B42: 1 | C42: =C31/M31 -> #DIV/0! | D42: =D31/M31 -> #DIV/0! | E42: =E31/M31 -> #DIV/0! | F42: =F31/M31 -> #DIV/0! | G42: =G31/M31 -> #DIV/0! | H42: =H31/M31 -> #DIV/0! | I42: =I31/M31 -> #DIV/0! | J42: =J31/M31 -> #DIV/0! | K42: =K31/M31 -> #DIV/0! | L42: =L31/M31 -> #DIV/0! | M42: =SUM(C42:L42) -> #DIV/0!
B43: 2 | C43: =C32/M32 -> #DIV/0! | D43: =D32/M32 -> #DIV/0! | E43: =E32/M32 -> #DIV/0! | F43: =F32/M32 -> #DIV/0! | G43: =G32/M32 -> #DIV/0! | H43: =H32/M32 -> #DIV/0! | I43: =I32/M32 -> #DIV/0! | J43: =J32/M32 -> #DIV/0! | K43: =K32/M32 -> #DIV/0! | L43: =L32/M32 -> #DIV/0! | M43: =SUM(C43:L43) -> #DIV/0!
B44: 3 | C44: =C33/M33 -> #DIV/0! | D44: =D33/M33 -> #DIV/0! | E44: =E33/M33 -> #DIV/0! | F44: =F33/M33 -> #DIV/0! | G44: =G33/M33 -> #DIV/0! | H44: =H33/M33 -> #DIV/0! | I44: =I33/M33 -> #DIV/0! | J44: =J33/M33 -> #DIV/0! | K44: =K33/M33 -> #DIV/0! | L44: =L33/M33 -> #DIV/0! | M44: =SUM(C44:L44) -> #DIV/0!
B45: 4 | C45: =C34/M34 -> #DIV/0! | D45: =D34/M34 -> #DIV/0! | E45: =E34/M34 -> #DIV/0! | F45: =F34/M34 -> #DIV/0! | G45: =G34/M34 -> #DIV/0! | H45: =H34/M34 -> #DIV/0! | I45: =I34/M34 -> #DIV/0! | J45: =J34/M34 -> #DIV/0! | K45: =K34/M34 -> #DIV/0! | L45: =L34/M34 -> #DIV/0! | M45: =SUM(C45:L45) -> #DIV/0!
B46: 5 | C46: =C35/M35 -> #DIV/0! | D46: =D35/M35 -> #DIV/0! | E46: =E35/M35 -> #DIV/0! | F46: =F35/M35 -> #DIV/0! | G46: =G35/M35 -> #DIV/0! | H46: =H35/M35 -> #DIV/0! | I46: =I35/M35 -> #DIV/0! | J46: =J35/M35 -> #DIV/0! | K46: =K35/M35 -> #DIV/0! | L46: =L35/M35 -> #DIV/0! | M46: =SUM(C46:L46) -> #DIV/0!
B51: Behaviors summary
B52: Using objects from other stations | E52: Technologies
B53: Yes | C53: No | D53: Totals | E53: Uncomfortable | F53: Comfortable | G53: Very comfortable | H53: Totals
B54: =Data!AA21+Data!AA28+Data!AA35+Data!AA42+Data!AA49+Data!AA56+Data!AA63+Data!AA70+Data!AA77+Data!AA84+Data!AA91+Data!AA98 -> 0 | C54: =Data!AB21+Data!AB28+Data!AB35+Data!AB42+Data!AB49+Data!AB56+Data!AB63+Data!AB70+Data!AB77+Data!AB84+Data!AB91+Data!AB98 -> 0 | D54: =SUM(B54:C54) -> 0 | E54: =Data!AC21+Data!AC28+Data!AC35+Data!AC42+Data!AC49+Data!AC56+Data!AC63+Data!AC70+Data!AC77+Data!AC84+Data!AC91+Data!AC98 -> 0 | F54: =Data!AD21+Data!AD28+Data!AD35+Data!AD42+Data!AD49+Data!AD56+Data!AD63+Data!AD70+Data!AD77+Data!AD84+Data!AD91+Data!AD98 -> 0 | G54: =Data!AE21+Data!AE28+Data!AE35+Data!AE42+Data!AE49+Data!AE56+Data!AE63+Data!AE70+Data!AE77+Data!AE84+Data!AE91+Data!AE98 -> 0 | H54: =SUM(E54:G54) -> 0
B55: =B54/D54 -> #DIV/0! | C55: =C54/D54 -> #DIV/0! | E55: =E54/H54 -> #DIV/0! | F55: =F54/H54 -> #DIV/0! | G55: =G54/H54 -> #DIV/0!

Sheet Summary Charts
A4: Observations: Summary
A5: Museum: [name of museum]
A6: Station: [name of station/activity under observation]

Sheet Example Data
A1: Bridge Study
A4: Database Onsite Observations
A5: Museum: High Museum of Art - Greene Family Learning Gallery | O5: Social Interactions
A6: Station: Making a Mark
C9: Visitors at station | K9: Space | AA9: Behaviors
C10: Adults | E10: Children | I10: Repeat visitors | K10: Attendance level interactive space | N10: School groups | O10: Within other visitors | T10: Individual | V10: With Staff | AA10: Using objects from other stations | AC10: Technologies
A11: Date mm/dd/yy | B11: Observation start time (30 min time slots) h:min PM/AM | C11: Total Males | D11: Total Females | E11: Total Boys | F11: Total Girls | G11: Total under age 5 | H11: Total aged between 5 - 12 | I11: No. who visit, look and leave | J11: Number of repeat visitors | K11: Nearly empty | L11: Moderate visitation | M11: Extremely crowded | N11: Present Yes =1 No=0 | O11: IC | P11: A → C | Q11: C→ A | R11: C → C | S11: A → A | T11: A | U11: C | V11: A → S | W11: S→ A | X11: C→ S | Y11: S→ C | Z11: TOTALS | AA11: Yes | AB11: No | AC11: Uncomfortable | AD11: Comfortable | AE11: Very comfortable | AF11: Notes
A13: 40515 | B13: 11:40-12:10 | D13: 4 | E13: 1 | F13: 5 | G13: 5 | H13: 1 | I13: 2 | J13: 4 | K13: 1 | O13: 1 | U13: 4 | Z13: =SUM(P13:Y13) -> 4
O14: 2 | U14: 2 | Z14: =SUM(P14:Y14) -> 2
O15: 3 | Z15: =SUM(P15:Y15) -> 0
O16: 4 | P16: 7 | Q16: 4 | X16: 1 | Z16: =SUM(P16:Y16) -> 12
O17: 5 | T17: 2 | U17: 4 | Z17: =SUM(P17:Y17) -> 6 | AA17: 2
O18: Totals | P18: =SUM(P13:P17) -> 7 | Q18: =SUM(Q13:Q17) -> 4 | R18: =SUM(R13:R17) -> 0 | S18: =SUM(S13:S17) -> 0 | T18: =SUM(T13:T17) -> 2 | U18: =SUM(U13:U17) -> 10 | V18: =SUM(V13:V17) -> 0 | W18: =SUM(W13:W17) -> 0 | ... Y18: =SUM(Y13:Y17) -> 0 | Z18: =SUM(P18:Y18) -> 24 | AA18: =SUM(AA13:AA17) -> 2 | AB18: =SUM(AB13:AB17) -> 0
A19: 40521 | B19: 1:45-2:15 | D19: 5 | E19: 5 | F19: 1 | G19: 5 | H19: 1 | K19: 1 | O19: 1 | Z19: =SUM(P19:Y19) -> 0
O20: 2 | P20: 1 | R20: 2 | Z20: =SUM(P20:Y20) -> 3
O21: 3 | Z21: =SUM(P21:Y21) -> 0
O22: 4 | P22: 2 | Q22: 2 | Z22: =SUM(P22:Y22) -> 4
O23: 5 | T23: 1 | U23: 2 | Z23: =SUM(P23:Y23) -> 3 | AA23: 1 | AB23: 1
O24: Totals | P24: =SUM(P19:P23) -> 3 | Q24: =SUM(Q19:Q23) -> 2 | R24: =SUM(R19:R23) -> 2 | S24: =SUM(S19:S23) -> 0 | T24: =SUM(T19:T23) -> 1 | U24: =SUM(U19:U23) -> 2 | V24: =SUM(V19:V23) -> 0 | W24: =SUM(W19:W23) -> 0 | ... Y24: =SUM(Y19:Y23) -> 0 | Z24: =SUM(P24:Y24) -> 10 | AA24: =SUM(AA19:AA23) -> 1 | AB24: =SUM(AB19:AB23) -> 1
A25: 40517 | B25: 2:00-3:00 | C25: 2 | D25: 1 | E25: 2 | F25: 2 | G25: 2 | H25: 2 | J25: 1 | K25: 1 | O25: 1 | Z25: =SUM(P25:Y25) -> 0
O26: 2 | Z26: =SUM(P26:Y26) -> 0
O27: 3 | Z27: =SUM(P27:Y27) -> 0
O28: 4 | P28: 1 | Z28: =SUM(P28:Y28) -> 1
O29: 5 | U29: 2 | Z29: =SUM(P29:Y29) -> 2
O30: Totals | P30: =SUM(P25:P29) -> 1 | Q30: =SUM(Q25:Q29) -> 0 | R30: =SUM(R25:R29) -> 0 | S30: =SUM(S25:S29) -> 0 | T30: =SUM(T25:T29) -> 0 | U30: =SUM(U25:U29) -> 2 | V30: =SUM(V25:V29) -> 0 | W30: =SUM(W25:W29) -> 0 | ... Y30: =SUM(Y25:Y29) -> 0 | Z30: =SUM(P30:Y30) -> 3 | AA30: =SUM(AA25:AA29) -> 0 | AB30: =SUM(AB25:AB29) -> 0
A31: 40516 | B31: 3:15-3:45 | C31: 1 | D31: 6 | E31: 1 | F31: 9 | G31: 2 | H31: 4 | I31: 2 | J31: 3 | K31: 1 | O31: 1 | Z31: =SUM(P31:Y31) -> 0
O32: 2 | R32: 1 | Z32: =SUM(P32:Y32) -> 1
O33: 3 | Z33: =SUM(P33:Y33) -> 0
O34: 4 | P34: 6 | Q34: 1 | R34: 3 | V34: 1 | Y34: 2 | Z34: =SUM(P34:Y34) -> 13
O35: 5 | T35: 1 | U35: 2 | Z35: =SUM(P35:Y35) -> 3
O36: Totals | P36: =SUM(P31:P35) -> 6 | Q36: =SUM(Q31:Q35) -> 1 | R36: =SUM(R31:R35) -> 4 | S36: =SUM(S31:S35) -> 0 | T36: =SUM(T31:T35) -> 1 | U36: =SUM(U31:U35) -> 2 | V36: =SUM(V31:V35) -> 1 | W36: =SUM(W31:W35) -> 0 | ... Y36: =SUM(Y31:Y35) -> 2 | Z36: =SUM(P36:Y36) -> 17 | AA36: =SUM(AA31:AA35) -> 0 | AB36: =SUM(AB31:AB35) -> 0
A37: 40516 | B37: 12:45-1:15 | C37: 2 | D37: 3 | E37: 1 | F37: 3 | G37: 3 | H37: 1 | K37: 1 | O37: 1 | Z37: =SUM(P37:Y37) -> 0
O38: 2 | Z38: =SUM(P38:Y38) -> 0
O39: 3 | Z39: =SUM(P39:Y39) -> 0
O40: 4 | P40: 5 | Z40: =SUM(P40:Y40) -> 5
O41: 5 | U41: 1 | Z41: =SUM(P41:Y41) -> 1 | AA41: 1
O42: Totals | P42: =SUM(P37:P41) -> 5 | Q42: =SUM(Q37:Q41) -> 0 | R42: =SUM(R37:R41) -> 0 | S42: =SUM(S37:S41) -> 0 | T42: =SUM(T37:T41) -> 0 | U42: =SUM(U37:U41) -> 1 | V42: =SUM(V37:V41) -> 0 | W42: =SUM(W37:W41) -> 0 | ... Y42: =SUM(Y37:Y41) -> 0 | Z42: =SUM(P42:Y42) -> 6 | AA42: =SUM(AA37:AA41) -> 1 | AB42: =SUM(AB37:AB41) -> 0
A43: 40516 | B43: 1:15-1:45 | C43: 4 | D43: 4 | E43: 6 | F43: 2 | G43: 3 | H43: 4 | J43: 1 | K43: 1 | O43: 1 | Z43: =SUM(P43:Y43) -> 0
O44: 2 | R44: 1 | Z44: =SUM(P44:Y44) -> 1
O45: 3 | Z45: =SUM(P45:Y45) -> 0
...

Sheet Example Summary
A1: Bridge Study
A4: Database Onsite Observations
A5: Museum: High Museum of Art - Greene Family Learning Gallery
A6: Station: Making a Mark: Charts
A10: Data gathered represents 6 hours of observations in the Greene Family Learning Gallery
