Workbook

Sheet Data
A4: Database Onsite Observations
A5: Museum: [name of museum] | O5: Social Interactions
A6: Station: [name of station/activity under observation]
C9: Visitors at station | K9: Space | AA9: Behaviors
C10: Adults | E10: Children | I10: Repeat visitors | K10: Attendance level interactive space | N10: School groups | O10: Within other visitors | T10: Individual | V10: With Staff | AA10: Using objects from other stations | AC10: Technologies
A11: Date mm/dd/yy | B11: Observation start time (30 min time slots) h:min PM/AM | C11: Total Males | D11: Total Females | E11: Total Boys | F11: Total Girls | G11: Total under age 5 | H11: Total aged between 5 - 12 | I11: No. who visit, look and leave | J11: Number of repeat visitors | K11: 0-30% | L11: 30-50% | M11: 60 - 100%+ | N11: Present Yes =1 No=0 | O11: IC | P11: A → C | Q11: C→ A | R11: C → C | S11: A → A | T11: A | U11: C | V11: A → S | W11: S→ A | X11: C→ S | Y11: S→ C | Z11: TOTALS | AA11: Yes | AB11: No | AC11: Uncomfortable | AD11: Comfortable | AE11: Very Comfortable | AF11: Notes
A15: First Observation
O16: 1 | Z16: =SUM(P16:Y16) -> 0 | AB16: =(C16+D16+E16+F16)-AA16 -> 0
O17: 2 | Z17: =SUM(P17:Y17) -> 0
O18: 3 | Z18: =SUM(P18:Y18) -> 0
O19: 4 | Z19: =SUM(P19:Y19) -> 0
O20: 5 | Z20: =SUM(P20:Y20) -> 0
N21: =N16 -> 0 | O21: Totals | P21: =SUM(P16:P20) -> 0 | Q21: =SUM(Q16:Q20) -> 0 | R21: =SUM(R16:R20) -> 0 | S21: =SUM(S16:S20) -> 0 | T21: =SUM(T16:T20) -> 0 | U21: =SUM(U16:U20) -> 0 | V21: =SUM(V16:V20) -> 0 | W21: =SUM(W16:W20) -> 0 | ... Y21: =SUM(Y16:Y20) -> 0 | Z21: =SUM(P21:Y21) -> 0 | AA21: =SUM(AA17:AA20) -> 0 | AB21: =SUM(AB17:AB20) -> 0 | AC21: =SUM(AC17:AC20) -> 0 | AD21: =SUM(AD17:AD20) -> 0 | AE21: =SUM(AE17:AE20) -> 0
A22: Second Observation
O23: 1 | Z23: =SUM(P23:Y23) -> 0 | AB23: =(C23+D23+E23+F23)-AA23 -> 0
O24: 2 | Z24: =SUM(P24:Y24) -> 0
O25: 3 | Z25: =SUM(P25:Y25) -> 0
O26: 4 | Z26: =SUM(P26:Y26) -> 0
O27: 5 | Z27: =SUM(P27:Y27) -> 0
N28: =N23 -> 0 | O28: Totals | P28: =SUM(P23:P27) -> 0 | Q28: =SUM(Q23:Q27) -> 0 | R28: =SUM(R23:R27) -> 0 | S28: =SUM(S23:S27) -> 0 | T28: =SUM(T23:T27) -> 0 | U28: =SUM(U23:U27) -> 0 | V28: =SUM(V23:V27) -> 0 | W28: =SUM(W23:W27) -> 0 | ... Y28: =SUM(Y23:Y27) -> 0 | Z28: =SUM(P28:Y28) -> 0 | AA28: =SUM(AA24:AA27) -> 0 | AB28: =SUM(AB24:AB27) -> 0 | AC28: =SUM(AC24:AC27) -> 0 | AD28: =SUM(AD24:AD27) -> 0 | AE28: =SUM(AE24:AE27) -> 0
A29: Third observation
O30: 1 | Z30: =SUM(P30:Y30) -> 0 | AB30: =(C30+D30+E30+F30)-AA30 -> 0
O31: 2 | Z31: =SUM(P31:Y31) -> 0
O32: 3 | Z32: =SUM(P32:Y32) -> 0
O33: 4 | Z33: =SUM(P33:Y33) -> 0
O34: 5 | Z34: =SUM(P34:Y34) -> 0
N35: =N30 -> 0 | O35: Totals | P35: =SUM(P30:P34) -> 0 | Q35: =SUM(Q30:Q34) -> 0 | R35: =SUM(R30:R34) -> 0 | S35: =SUM(S30:S34) -> 0 | T35: =SUM(T30:T34) -> 0 | U35: =SUM(U30:U34) -> 0 | V35: =SUM(V30:V34) -> 0 | W35: =SUM(W30:W34) -> 0 | ... Y35: =SUM(Y30:Y34) -> 0 | Z35: =SUM(P35:Y35) -> 0 | AA35: =SUM(AA31:AA34) -> 0 | AB35: =SUM(AB31:AB34) -> 0 | AC35: =SUM(AC31:AC34) -> 0 | AD35: =SUM(AD31:AD34) -> 0 | AE35: =SUM(AE31:AE34) -> 0
A36: Fourth Observation
O37: 1 | Z37: =SUM(P37:Y37) -> 0 | AB37: =(C37+D37+E37+F37)-AA37 -> 0
O38: 2 | Z38: =SUM(P38:Y38) -> 0
O39: 3 | Z39: =SUM(P39:Y39) -> 0
O40: 4 | Z40: =SUM(P40:Y40) -> 0
O41: 5 | Z41: =SUM(P41:Y41) -> 0
N42: =N37 -> 0 | O42: Totals | P42: =SUM(P37:P41) -> 0 | Q42: =SUM(Q37:Q41) -> 0 | R42: =SUM(R37:R41) -> 0 | S42: =SUM(S37:S41) -> 0 | T42: =SUM(T37:T41) -> 0 | U42: =SUM(U37:U41) -> 0 | V42: =SUM(V37:V41) -> 0 | W42: =SUM(W37:W41) -> 0 | ... Y42: =SUM(Y37:Y41) -> 0 | Z42: =SUM(P42:Y42) -> 0 | AA42: =SUM(AA38:AA41) -> 0 | AB42: =SUM(AB38:AB41) -> 0 | AC42: =SUM(AC38:AC41) -> 0 | AD42: =SUM(AD38:AD41) -> 0 | AE42: =SUM(AE38:AE41) -> 0
A43: Fifth Observation
O44: 1 | Z44: =SUM(P44:Y44) -> 0 | AB44: =(C44+D44+E44+F44)-AA44 -> 0
O45: 2 | Z45: =SUM(P45:Y45) -> 0
O46: 3 | Z46: =SUM(P46:Y46) -> 0
O47: 4 | Z47: =SUM(P47:Y47) -> 0
O48: 5 | Z48: =SUM(P48:Y48) -> 0
N49: =N44 -> 0 | O49: Totals | P49: =SUM(P44:P48) -> 0 | Q49: =SUM(Q44:Q48) -> 0 | R49: =SUM(R44:R48) -> 0 | S49: =SUM(S44:S48) -> 0 | T49: =SUM(T44:T48) -> 0 | U49: =SUM(U44:U48) -> 0 | V49: =SUM(V44:V48) -> 0 | W49: =SUM(W44:W48) -> 0 | ... Y49: =SUM(Y44:Y48) -> 0 | Z49: =SUM(P49:Y49) -> 0 | AA49: =SUM(AA45:AA48) -> 0 | AB49: =SUM(AB45:AB48) -> 0 | AC49: =SUM(AC45:AC48) -> 0 | AD49: =SUM(AD45:AD48) -> 0 | AE49: =SUM(AE45:AE48) -> 0
A50: Sixth Observation
O51: 1 | Z51: =SUM(P51:Y51) -> 0 | AB51: =(C51+D51+E51+F51)-AA51 -> 0
O52: 2 | Z52: =SUM(P52:Y52) -> 0
O53: 3 | Z53: =SUM(P53:Y53) -> 0
O54: 4 | Z54: =SUM(P54:Y54) -> 0
O55: 5 | Z55: =SUM(P55:Y55) -> 0
N56: =N51 -> 0 | O56: Totals | P56: =SUM(P51:P55) -> 0 | Q56: =SUM(Q51:Q55) -> 0 | R56: =SUM(R51:R55) -> 0 | S56: =SUM(S51:S55) -> 0 | T56: =SUM(T51:T55) -> 0 | U56: =SUM(U51:U55) -> 0 | V56: =SUM(V51:V55) -> 0 | W56: =SUM(W51:W55) -> 0 | ... Y56: =SUM(Y51:Y55) -> 0 | Z56: =SUM(P56:Y56) -> 0 | AA56: =SUM(AA52:AA55) -> 0 | AB56: =SUM(AB52:AB55) -> 0 | AC56: =SUM(AC52:AC55) -> 0 | AD56: =SUM(AD52:AD55) -> 0 | AE56: =SUM(AE52:AE55) -> 0
A57: Seventh Observation
O58: 1 | Z58: =SUM(P58:Y58) -> 0 | AB58: =(C58+D58+E58+F58)-AA58 -> 0
O59: 2 | Z59: =SUM(P59:Y59) -> 0
O60: 3 | Z60: =SUM(P60:Y60) -> 0
O61: 4 | Z61: =SUM(P61:Y61) -> 0
O62: 5 | Z62: =SUM(P62:Y62) -> 0
N63: =N58 -> 0 | O63: Totals | P63: =SUM(P58:P62) -> 0 | Q63: =SUM(Q58:Q62) -> 0 | R63: =SUM(R58:R62) -> 0 | S63: =SUM(S58:S62) -> 0 | T63: =SUM(T58:T62) -> 0 | U63: =SUM(U58:U62) -> 0 | V63: =SUM(V58:V62) -> 0 | W63: =SUM(W58:W62) -> 0 | ... Y63: =SUM(Y58:Y62) -> 0 | Z63: =SUM(P63:Y63) -> 0 | AA63: =SUM(AA59:AA62) -> 0 | AB63: =SUM(AB59:AB62) -> 0 | AC63: =SUM(AC59:AC62) -> 0 | AD63: =SUM(AD59:AD62) -> 0 | AE63: =SUM(AE59:AE62) -> 0
A64: Eighth Observation
O65: 1 | Z65: =SUM(P65:Y65) -> 0 | AB65: =(C65+D65+E65+F65)-AA65 -> 0
O66: 2 | Z66: =SUM(P66:Y66) -> 0
O67: 3 | Z67: =SUM(P67:Y67) -> 0
O68: 4 | Z68: =SUM(P68:Y68) -> 0
O69: 5 | Z69: =SUM(P69:Y69) -> 0
N70: =N65 -> 0 | O70: Totals | P70: =SUM(P65:P69) -> 0 | Q70: =SUM(Q65:Q69) -> 0 | R70: =SUM(R65:R69) -> 0 | S70: =SUM(S65:S69) -> 0 | T70: =SUM(T65:T69) -> 0 | U70: =SUM(U65:U69) -> 0 | V70: =SUM(V65:V69) -> 0 | W70: =SUM(W65:W69) -> 0 | ... Y70: =SUM(Y65:Y69) -> 0 | Z70: =SUM(P70:Y70) -> 0 | AA70: =SUM(AA66:AA69) -> 0 | AB70: =SUM(AB66:AB69) -> 0 | AC70: =SUM(AC66:AC69) -> 0 | AD70: =SUM(AD66:AD69) -> 0 | AE70: =SUM(AE66:AE69) -> 0
O72: 1 | Z72: =SUM(P72:Y72) -> 0 | AB72: =(C72+D72+E72+F72)-AA72 -> 0
O73: 2 | Z73: =SUM(P73:Y73) -> 0
O74: 3 | Z74: =SUM(P74:Y74) -> 0
O75: 4 | Z75: =SUM(P75:Y75) -> 0
O76: 5 | Z76: =SUM(P76:Y76) -> 0
N77: =N72 -> 0 | O77: Totals | P77: =SUM(P72:P76) -> 0 | Q77: =SUM(Q72:Q76) -> 0 | R77: =SUM(R72:R76) -> 0 | S77: =SUM(S72:S76) -> 0 | T77: =SUM(T72:T76) -> 0 | U77: =SUM(U72:U76) -> 0 | V77: =SUM(V72:V76) -> 0 | W77: =SUM(W72:W76) -> 0 | ... Y77: =SUM(Y72:Y76) -> 0 | Z77: =SUM(P77:Y77) -> 0 | AA77: =SUM(AA73:AA76) -> 0 | AB77: =SUM(AB73:AB76) -> 0 | AC77: =SUM(AC73:AC76) -> 0 | AD77: =SUM(AD73:AD76) -> 0 | AE77: =SUM(AE73:AE76) -> 0
O79: 1 | Z79: =SUM(P79:Y79) -> 0 | AB79: =(C79+D79+E79+F79)-AA79 -> 0
O80: 2 | Z80: =SUM(P80:Y80) -> 0
O81: 3 | Z81: =SUM(P81:Y81) -> 0
O82: 4 | Z82: =SUM(P82:Y82) -> 0
O83: 5 | Z83: =SUM(P83:Y83) -> 0
N84: =N79 -> 0 | O84: Totals | P84: =SUM(P79:P83) -> 0 | Q84: =SUM(Q79:Q83) -> 0 | R84: =SUM(R79:R83) -> 0 | S84: =SUM(S79:S83) -> 0 | T84: =SUM(T79:T83) -> 0 | U84: =SUM(U79:U83) -> 0 | V84: =SUM(V79:V83) -> 0 | W84: =SUM(W79:W83) -> 0 | ... Y84: =SUM(Y79:Y83) -> 0 | Z84: =SUM(P84:Y84) -> 0 | AA84: =SUM(AA80:AA83) -> 0 | AB84: =SUM(AB80:AB83) -> 0 | AC84: =SUM(AC80:AC83) -> 0 | AD84: =SUM(AD80:AD83) -> 0 | AE84: =SUM(AE80:AE83) -> 0
O86: 1 | Z86: =SUM(P86:Y86) -> 0 | AB86: =(C86+D86+E86+F86)-AA86 -> 0
O87: 2 | Z87: =SUM(P87:Y87) -> 0
O88: 3 | Z88: =SUM(P88:Y88) -> 0
O89: 4 | Z89: =SUM(P89:Y89) -> 0
O90: 5 | Z90: =SUM(P90:Y90) -> 0
N91: =N86 -> 0 | O91: Totals | P91: =SUM(P86:P90) -> 0 | Q91: =SUM(Q86:Q90) -> 0 | R91: =SUM(R86:R90) -> 0 | S91: =SUM(S86:S90) -> 0 | T91: =SUM(T86:T90) -> 0 | U91: =SUM(U86:U90) -> 0 | V91: =SUM(V86:V90) -> 0 | W91: =SUM(W86:W90) -> 0 | ... Y91: =SUM(Y86:Y90) -> 0 | Z91: =SUM(P91:Y91) -> 0 | AA91: =SUM(AA87:AA90) -> 0 | AB91: =SUM(AB87:AB90) -> 0 | AC91: =SUM(AC87:AC90) -> 0 | AD91: =SUM(AD87:AD90) -> 0 | AE91: =SUM(AE87:AE90) -> 0
O93: 1 | Z93: =SUM(P93:Y93) -> 0 | AB93: =(C93+D93+E93+F93)-AA93 -> 0
O94: 2 | Z94: =SUM(P94:Y94) -> 0
O95: 3 | Z95: =SUM(P95:Y95) -> 0
O96: 4 | Z96: =SUM(P96:Y96) -> 0
O97: 5 | Z97: =SUM(P97:Y97) -> 0
N98: =N93 -> 0 | O98: Totals | P98: =SUM(P93:P97) -> 0 | Q98: =SUM(Q93:Q97) -> 0 | R98: =SUM(R93:R97) -> 0 | S98: =SUM(S93:S97) -> 0 | T98: =SUM(T93:T97) -> 0 | U98: =SUM(U93:U97) -> 0 | V98: =SUM(V93:V97) -> 0 | W98: =SUM(W93:W97) -> 0 | ... Y98: =SUM(Y93:Y97) -> 0 | Z98: =SUM(P98:Y98) -> 0 | AA98: =SUM(AA94:AA97) -> 0 | AB98: =SUM(AB94:AB97) -> 0 | AC98: =SUM(AC94:AC97) -> 0 | AD98: =SUM(AD94:AD97) -> 0 | AE98: =SUM(AE94:AE97) -> 0
A100: Total Days observing

Sheet Summary
A4: Observations: Summary
A5: Museum: [name of museum]
A6: Station: [name of station/activity under observation]
B9: Visitors at Station and Space summary | P9: Visitation
B10: Total Males | C10: Total Females | D10: Total Boys | E10: Total Girls | F10: Total under age 5 | G10: Total aged between 5 - 12 | H10: No. who visit, look and leave | I10: Number of repeat visitors | J10: 0-30% | K10: 30-50% | L10: 50 - 100%+ | M10: School Group Present Yes =1 No=0 | P10: No. who visit, look and leave | Q10: Number of repeat visitors | R10: Actual Visitors | S10: Total Visits
B11: =Data!C16+Data!C23+Data!C30+Data!C37+Data!C44+Data!C51+Data!C58+Data!C65+Data!C72+Data!C79+Data!C86+Data!C93 -> 0 | C11: =Data!D16+Data!D23+Data!D30+Data!D37+Data!D44+Data!D51+Data!D58+Data!D65+Data!D72+Data!D79+Data!D86+Data!D93 -> 0 | D11: =Data!E16+Data!E23+Data!E30+Data!E37+Data!E44+Data!E51+Data!E58+Data!E65+Data!E72+Data!E79+Data!E86+Data!E93 -> 0 | E11: =Data!F16+Data!F23+Data!F30+Data!F37+Data!F44+Data!F51+Data!F58+Data!F65+Data!F72+Data!F79+Data!F86+Data!F93 -> 0 | F11: =Data!G16+Data!G23+Data!G30+Data!G37+Data!G44+Data!G51+Data!G58+Data!G65+Data!G72+Data!G79+Data!G86+Data!G93 -> 0 | G11: =Data!H16+Data!H23+Data!H30+Data!H37+Data!H44+Data!H51+Data!H58+Data!H65+Data!H72+Data!H79+Data!H86+Data!H93 -> 0 | H11: =Data!I16+Data!I23+Data!I30+Data!I37+Data!I44+Data!I51+Data!I58+Data!I65+Data!I72+Data!I79+Data!I86+Data!I93 -> 0 | I11: =Data!J16+Data!J23+Data!J30+Data!J37+Data!J44+Data!J51+Data!J58+Data!J65+Data!J72+Data!J79+Data!J86+Data!J93 -> 0 | ... L11: =Data!M16+Data!M23+Data!M30+Data!M37+Data!M44+Data!M51+Data!M58+Data!M65+Data!M72+Data!M79+Data!M86+Data!M93 -> 0 | M11: =Data!N21+Data!N28+Data!N35+Data!N42+Data!N49+Data!N56+Data!N63+Data!N70+Data!N77+Data!N84+Data!N91+Data!N98 -> 0 | P11: =H11 -> 0 | Q11: =I11 -> 0 | R11: =B15 -> 0 | S11: 0
O12: % of total visits | P12: =P11/S11 -> #DIV/0! | Q12: =Q11/S11 -> #DIV/0!
A13: Males and Females | B13: =B11+C11 -> 0 | O13: % of actual visits | Q13: =Q11/R11 -> #DIV/0!
A14: Girls and boys | B14: =D11+E11 -> 0
A15: Total Sample number | B15: =SUM(B13:B14) -> 0 | P15: Attendance Level
P16: 0-30% | Q16: 30-50% | R16: 50 - 100%+ | S16: Totals
A17: Under 5 years | B17: =F11 -> 0 | P17: =J11 -> 0 | Q17: =K11 -> 0 | R17: =L11 -> 0 | S17: =SUM(P17:R17) -> 0
A18: 5 - 12 years | B18: =G11 -> 0 | O18: % of attendance level | P18: =P17/S17 -> #DIV/0! | Q18: =Q17/S17 -> #DIV/0! | R18: =R17/S17 -> #DIV/0!
A19: Total Number of Children | B19: =SUM(B17:B18) -> 0
P20: School Group Present | Q20: Number of days observing
C21: NOTE: The #DIV/0! Will go away once numbers are entered in the "Data" tab worksheet | P21: =M11 -> 0 | Q21: =Data!B100 -> 0
P22: =P21/Q21 -> #DIV/0!
C29: Social Interactions summary
C30: A → C | D30: C→ A | E30: C → C | F30: A → A | G30: A | H30: C | I30: A → S | J30: S→ A | K30: C→ S | L30: S→ C | M30: TOTALS | P30: Connection | Q30: Observing others | R30: Read | S30: Directed | T30: Self-initiated
B31: 1 | C31: =Data!P16+Data!P23+Data!P30+Data!P37+Data!P44+Data!P51+Data!P58+Data!P65+Data!P72+Data!P79+Data!P86+Data!P93 -> 0 | D31: =Data!Q16+Data!Q23+Data!Q30+Data!Q37+Data!Q44+Data!Q51+Data!Q58+Data!Q65+Data!Q72+Data!Q79+Data!Q86+Data!Q93 -> 0 | E31: =Data!R16+Data!R23+Data!R30+Data!R37+Data!R44+Data!R51+Data!R58+Data!R65+Data!R72+Data!R79+Data!R86+Data!R93 -> 0 | F31: =Data!S16+Data!S23+Data!S30+Data!S37+Data!S44+Data!S51+Data!S58+Data!S65+Data!S72+Data!S79+Data!S86+Data!S93 -> 0 | G31: =Data!T16+Data!T23+Data!T30+Data!T37+Data!T44+Data!T51+Data!T58+Data!T65+Data!T72+Data!T79+Data!T86+Data!T93 -> 0 | H31: =Data!U16+Data!U23+Data!U30+Data!U37+Data!U44+Data!U51+Data!U58+Data!U65+Data!U72+Data!U79+Data!U86+Data!U93 -> 0 | I31: =Data!V16+Data!V23+Data!V30+Data!V37+Data!V44+Data!V51+Data!V58+Data!V65+Data!V72+Data!V79+Data!V86+Data!V93 -> 0 | J31: =Data!W16+Data!W23+Data!W30+Data!W37+Data!W44+Data!W51+Data!W58+Data!W65+Data!W72+Data!W79+Data!W86+Data!W93 -> 0 | ... L31: =Data!Y16+Data!Y23+Data!Y30+Data!Y37+Data!Y44+Data!Y51+Data!Y58+Data!Y65+Data!Y72+Data!Y79+Data!Y86+Data!Y93 -> 0 | M31: =SUM(C31:L31) -> 0 | N31: =M31/M36 -> #DIV/0! | P31: =N31 -> #DIV/0! | Q31: =N32 -> #DIV/0! | R31: =N33 -> #DIV/0! | S31: =N34 -> #DIV/0! | T31: =N35 -> #DIV/0!
B32: 2 | C32: =Data!P17+Data!P24+Data!P31+Data!P38+Data!P45+Data!P52+Data!P59+Data!P66+Data!P73+Data!P80+Data!P87+Data!P94 -> 0 | D32: =Data!Q17+Data!Q24+Data!Q31+Data!Q38+Data!Q45+Data!Q52+Data!Q59+Data!Q66+Data!Q73+Data!Q80+Data!Q87+Data!Q94 -> 0 | E32: =Data!R17+Data!R24+Data!R31+Data!R38+Data!R45+Data!R52+Data!R59+Data!R66+Data!R73+Data!R80+Data!R87+Data!R94 -> 0 | F32: =Data!S17+Data!S24+Data!S31+Data!S38+Data!S45+Data!S52+Data!S59+Data!S66+Data!S73+Data!S80+Data!S87+Data!S94 -> 0 | G32: =Data!T17+Data!T24+Data!T31+Data!T38+Data!T45+Data!T52+Data!T59+Data!T66+Data!T73+Data!T80+Data!T87+Data!T94 -> 0 | H32: =Data!U17+Data!U24+Data!U31+Data!U38+Data!U45+Data!U52+Data!U59+Data!U66+Data!U73+Data!U80+Data!U87+Data!U94 -> 0 | I32: =Data!V17+Data!V24+Data!V31+Data!V38+Data!V45+Data!V52+Data!V59+Data!V66+Data!V73+Data!V80+Data!V87+Data!V94 -> 0 | J32: =Data!W17+Data!W24+Data!W31+Data!W38+Data!W45+Data!W52+Data!W59+Data!W66+Data!W73+Data!W80+Data!W87+Data!W94 -> 0 | ... M32: =Data!Z17+Data!Z24+Data!Z31+Data!Z38+Data!Z45+Data!Z52+Data!Z59+Data!Z66+Data!Z73+Data!Z80+Data!Z87+Data!Z94 -> 0 | N32: =M32/M36 -> #DIV/0!
B33: 3 | C33: =Data!P18+Data!P25+Data!P32+Data!P39+Data!P46+Data!P53+Data!P60+Data!P67+Data!P74+Data!P81+Data!P88+Data!P95 -> 0 | D33: =Data!Q18+Data!Q25+Data!Q32+Data!Q39+Data!Q46+Data!Q53+Data!Q60+Data!Q67+Data!Q74+Data!Q81+Data!Q88+Data!Q95 -> 0 | E33: =Data!R18+Data!R25+Data!R32+Data!R39+Data!R46+Data!R53+Data!R60+Data!R67+Data!R74+Data!R81+Data!R88+Data!R95 -> 0 | F33: =Data!S18+Data!S25+Data!S32+Data!S39+Data!S46+Data!S53+Data!S60+Data!S67+Data!S74+Data!S81+Data!S88+Data!S95 -> 0 | G33: =Data!T18+Data!T25+Data!T32+Data!T39+Data!T46+Data!T53+Data!T60+Data!T67+Data!T74+Data!T81+Data!T88+Data!T95 -> 0 | H33: =Data!U18+Data!U25+Data!U32+Data!U39+Data!U46+Data!U53+Data!U60+Data!U67+Data!U74+Data!U81+Data!U88+Data!U95 -> 0 | I33: =Data!V18+Data!V25+Data!V32+Data!V39+Data!V46+Data!V53+Data!V60+Data!V67+Data!V74+Data!V81+Data!V88+Data!V95 -> 0 | J33: =Data!W18+Data!W25+Data!W32+Data!W39+Data!W46+Data!W53+Data!W60+Data!W67+Data!W74+Data!W81+Data!W88+Data!W95 -> 0 | ... M33: =Data!Z18+Data!Z25+Data!Z32+Data!Z39+Data!Z46+Data!Z53+Data!Z60+Data!Z67+Data!Z74+Data!Z81+Data!Z88+Data!Z95 -> 0 | N33: =M33/M36 -> #DIV/0!
B34: 4 | C34: =Data!P19+Data!P26+Data!P33+Data!P40+Data!P47+Data!P54+Data!P61+Data!P68+Data!P75+Data!P82+Data!P89+Data!P96 -> 0 | D34: =Data!Q19+Data!Q26+Data!Q33+Data!Q40+Data!Q47+Data!Q54+Data!Q61+Data!Q68+Data!Q75+Data!Q82+Data!Q89+Data!Q96 -> 0 | E34: =Data!R19+Data!R26+Data!R33+Data!R40+Data!R47+Data!R54+Data!R61+Data!R68+Data!R75+Data!R82+Data!R89+Data!R96 -> 0 | F34: =Data!S19+Data!S26+Data!S33+Data!S40+Data!S47+Data!S54+Data!S61+Data!S68+Data!S75+Data!S82+Data!S89+Data!S96 -> 0 | G34: =Data!T19+Data!T26+Data!T33+Data!T40+Data!T47+Data!T54+Data!T61+Data!T68+Data!T75+Data!T82+Data!T89+Data!T96 -> 0 | H34: =Data!U19+Data!U26+Data!U33+Data!U40+Data!U47+Data!U54+Data!U61+Data!U68+Data!U75+Data!U82+Data!U89+Data!U96 -> 0 | I34: =Data!V19+Data!V26+Data!V33+Data!V40+Data!V47+Data!V54+Data!V61+Data!V68+Data!V75+Data!V82+Data!V89+Data!V96 -> 0 | J34: =Data!W19+Data!W26+Data!W33+Data!W40+Data!W47+Data!W54+Data!W61+Data!W68+Data!W75+Data!W82+Data!W89+Data!W96 -> 0 | ... M34: =Data!Z19+Data!Z26+Data!Z33+Data!Z40+Data!Z47+Data!Z54+Data!Z61+Data!Z68+Data!Z75+Data!Z82+Data!Z89+Data!Z96 -> 0 | N34: =M34/M36 -> #DIV/0!
B35: 5 | C35: =Data!P20+Data!P27+Data!P34+Data!P41+Data!P48+Data!P55+Data!P62+Data!P69+Data!P76+Data!P83+Data!P90+Data!P97 -> 0 | D35: =Data!Q20+Data!Q27+Data!Q34+Data!Q41+Data!Q48+Data!Q55+Data!Q62+Data!Q69+Data!Q76+Data!Q83+Data!Q90+Data!Q97 -> 0 | E35: =Data!R20+Data!R27+Data!R34+Data!R41+Data!R48+Data!R55+Data!R62+Data!R69+Data!R76+Data!R83+Data!R90+Data!R97 -> 0 | F35: =Data!S20+Data!S27+Data!S34+Data!S41+Data!S48+Data!S55+Data!S62+Data!S69+Data!S76+Data!S83+Data!S90+Data!S97 -> 0 | G35: =Data!T20+Data!T27+Data!T34+Data!T41+Data!T48+Data!T55+Data!T62+Data!T69+Data!T76+Data!T83+Data!T90+Data!T97 -> 0 | H35: =Data!U20+Data!U27+Data!U34+Data!U41+Data!U48+Data!U55+Data!U62+Data!U69+Data!U76+Data!U83+Data!U90+Data!U97 -> 0 | I35: =Data!V20+Data!V27+Data!V34+Data!V41+Data!V48+Data!V55+Data!V62+Data!V69+Data!V76+Data!V83+Data!V90+Data!V97 -> 0 | J35: =Data!W20+Data!W27+Data!W34+Data!W41+Data!W48+Data!W55+Data!W62+Data!W69+Data!W76+Data!W83+Data!W90+Data!W97 -> 0 | ... M35: =Data!Z20+Data!Z27+Data!Z34+Data!Z41+Data!Z48+Data!Z55+Data!Z62+Data!Z69+Data!Z76+Data!Z83+Data!Z90+Data!Z97 -> 0 | N35: =M35/M36 -> #DIV/0!
C36: =SUM(C31:C35) -> 0 | D36: =SUM(D31:D35) -> 0 | E36: =SUM(E31:E35) -> 0 | F36: =SUM(F31:F35) -> 0 | G36: =SUM(G31:G35) -> 0 | H36: =SUM(H31:H35) -> 0 | I36: =SUM(I31:I35) -> 0 | J36: =SUM(J31:J35) -> 0 | ... M36: =SUM(M31:M35) -> 0
C37: =C36/M36 -> #DIV/0! | D37: =D36/M36 -> #DIV/0! | E37: =E36/M36 -> #DIV/0! | F37: =F36/M36 -> #DIV/0! | G37: =G36/M36 -> #DIV/0! | H37: =H36/M36 -> #DIV/0! | I37: =I36/M36 -> #DIV/0! | J37: =J36/M36 -> #DIV/0! | K37: =K36/M36 -> #DIV/0! | L37: =L36/M36 -> #DIV/0!
C40: Social Interactions summary as a percentage
C41: A → C | D41: C→ A | E41: C → C | F41: A → A | G41: A | H41: C | I41: A → S | J41: S→ A | K41: C→ S | L41: S→ C | M41: Totals
B42: 1 | C42: =C31/M31 -> #DIV/0! | D42: =D31/M31 -> #DIV/0! | E42: =E31/M31 -> #DIV/0! | F42: =F31/M31 -> #DIV/0! | G42: =G31/M31 -> #DIV/0! | H42: =H31/M31 -> #DIV/0! | I42: =I31/M31 -> #DIV/0! | J42: =J31/M31 -> #DIV/0! | K42: =K31/M31 -> #DIV/0! | L42: =L31/M31 -> #DIV/0! | M42: =SUM(C42:L42) -> #DIV/0!
B43: 2 | C43: =C32/M32 -> #DIV/0! | D43: =D32/M32 -> #DIV/0! | E43: =E32/M32 -> #DIV/0! | F43: =F32/M32 -> #DIV/0! | G43: =G32/M32 -> #DIV/0! | H43: =H32/M32 -> #DIV/0! | I43: =I32/M32 -> #DIV/0! | J43: =J32/M32 -> #DIV/0! | K43: =K32/M32 -> #DIV/0! | L43: =L32/M32 -> #DIV/0! | M43: =SUM(C43:L43) -> #DIV/0!
B44: 3 | C44: =C33/M33 -> #DIV/0! | D44: =D33/M33 -> #DIV/0! | E44: =E33/M33 -> #DIV/0! | F44: =F33/M33 -> #DIV/0! | G44: =G33/M33 -> #DIV/0! | H44: =H33/M33 -> #DIV/0! | I44: =I33/M33 -> #DIV/0! | J44: =J33/M33 -> #DIV/0! | K44: =K33/M33 -> #DIV/0! | L44: =L33/M33 -> #DIV/0! | M44: =SUM(C44:L44) -> #DIV/0!
B45: 4 | C45: =C34/M34 -> #DIV/0! | D45: =D34/M34 -> #DIV/0! | E45: =E34/M34 -> #DIV/0! | F45: =F34/M34 -> #DIV/0! | G45: =G34/M34 -> #DIV/0! | H45: =H34/M34 -> #DIV/0! | I45: =I34/M34 -> #DIV/0! | J45: =J34/M34 -> #DIV/0! | K45: =K34/M34 -> #DIV/0! | L45: =L34/M34 -> #DIV/0! | M45: =SUM(C45:L45) -> #DIV/0!
B46: 5 | C46: =C35/M35 -> #DIV/0! | D46: =D35/M35 -> #DIV/0! | E46: =E35/M35 -> #DIV/0! | F46: =F35/M35 -> #DIV/0! | G46: =G35/M35 -> #DIV/0! | H46: =H35/M35 -> #DIV/0! | I46: =I35/M35 -> #DIV/0! | J46: =J35/M35 -> #DIV/0! | K46: =K35/M35 -> #DIV/0! | L46: =L35/M35 -> #DIV/0! | M46: =SUM(C46:L46) -> #DIV/0!
B51: Behaviors summary
B52: Using objects from other stations | E52: Technologies
B53: Yes | C53: No | D53: Totals | E53: Uncomfortable | F53: Comfortable | G53: Very comfortable | H53: Totals
B54: =Data!AA21+Data!AA28+Data!AA35+Data!AA42+Data!AA49+Data!AA56+Data!AA63+Data!AA70+Data!AA77+Data!AA84+Data!AA91+Data!AA98 -> 0 | C54: =Data!AB21+Data!AB28+Data!AB35+Data!AB42+Data!AB49+Data!AB56+Data!AB63+Data!AB70+Data!AB77+Data!AB84+Data!AB91+Data!AB98 -> 0 | D54: =SUM(B54:C54) -> 0 | E54: =Data!AC21+Data!AC28+Data!AC35+Data!AC42+Data!AC49+Data!AC56+Data!AC63+Data!AC70+Data!AC77+Data!AC84+Data!AC91+Data!AC98 -> 0 | F54: =Data!AD21+Data!AD28+Data!AD35+Data!AD42+Data!AD49+Data!AD56+Data!AD63+Data!AD70+Data!AD77+Data!AD84+Data!AD91+Data!AD98 -> 0 | G54: =Data!AE21+Data!AE28+Data!AE35+Data!AE42+Data!AE49+Data!AE56+Data!AE63+Data!AE70+Data!AE77+Data!AE84+Data!AE91+Data!AE98 -> 0 | H54: =SUM(E54:G54) -> 0
B55: =B54/D54 -> #DIV/0! | C55: =C54/D54 -> #DIV/0! | E55: =E54/H54 -> #DIV/0! | F55: =F54/H54 -> #DIV/0! | G55: =G54/H54 -> #DIV/0!

Sheet Summary Charts
A4: Observations: Summary
A5: Museum: [name of museum]
A6: Station: [name of station/activity under observation]

Sheet Example Data
A1: Bridge Study
A4: Database Onsite Observations
A5: Museum: High Museum of Art - Greene Family Learning Gallery | O5: Social Interactions
A6: Station: Making a Mark
C9: Visitors at station | K9: Space | AA9: Behaviors
C10: Adults | E10: Children | I10: Repeat visitors | K10: Attendance level interactive space | N10: School groups | O10: Within other visitors | T10: Individual | V10: With Staff | AA10: Using objects from other stations | AC10: Technologies
A11: Date mm/dd/yy | B11: Observation start time (30 min time slots) h:min PM/AM | C11: Total Males | D11: Total Females | E11: Total Boys | F11: Total Girls | G11: Total under age 5 | H11: Total aged between 5 - 12 | I11: No. who visit, look and leave | J11: Number of repeat visitors | K11: Nearly empty | L11: Moderate visitation | M11: Extremely crowded | N11: Present Yes =1 No=0 | O11: IC | P11: A → C | Q11: C→ A | R11: C → C | S11: A → A | T11: A | U11: C | V11: A → S | W11: S→ A | X11: C→ S | Y11: S→ C | Z11: TOTALS | AA11: Yes | AB11: No | AC11: Uncomfortable | AD11: Comfortable | AE11: Very comfortable | AF11: Notes
A13: 40515 | B13: 11:40-12:10 | D13: 4 | E13: 1 | F13: 5 | G13: 5 | H13: 1 | I13: 2 | J13: 4 | K13: 1 | O13: 1 | U13: 4 | Z13: =SUM(P13:Y13) -> 4
O14: 2 | U14: 2 | Z14: =SUM(P14:Y14) -> 2
O15: 3 | Z15: =SUM(P15:Y15) -> 0
O16: 4 | P16: 7 | Q16: 4 | X16: 1 | Z16: =SUM(P16:Y16) -> 12
O17: 5 | T17: 2 | U17: 4 | Z17: =SUM(P17:Y17) -> 6 | AA17: 2
O18: Totals | P18: =SUM(P13:P17) -> 7 | Q18: =SUM(Q13:Q17) -> 4 | R18: =SUM(R13:R17) -> 0 | S18: =SUM(S13:S17) -> 0 | T18: =SUM(T13:T17) -> 2 | U18: =SUM(U13:U17) -> 10 | V18: =SUM(V13:V17) -> 0 | W18: =SUM(W13:W17) -> 0 | ... Y18: =SUM(Y13:Y17) -> 0 | Z18: =SUM(P18:Y18) -> 24 | AA18: =SUM(AA13:AA17) -> 2 | AB18: =SUM(AB13:AB17) -> 0
A19: 40521 | B19: 1:45-2:15 | D19: 5 | E19: 5 | F19: 1 | G19: 5 | H19: 1 | K19: 1 | O19: 1 | Z19: =SUM(P19:Y19) -> 0
O20: 2 | P20: 1 | R20: 2 | Z20: =SUM(P20:Y20) -> 3
O21: 3 | Z21: =SUM(P21:Y21) -> 0
O22: 4 | P22: 2 | Q22: 2 | Z22: =SUM(P22:Y22) -> 4
O23: 5 | T23: 1 | U23: 2 | Z23: =SUM(P23:Y23) -> 3 | AA23: 1 | AB23: 1
O24: Totals | P24: =SUM(P19:P23) -> 3 | Q24: =SUM(Q19:Q23) -> 2 | R24: =SUM(R19:R23) -> 2 | S24: =SUM(S19:S23) -> 0 | T24: =SUM(T19:T23) -> 1 | U24: =SUM(U19:U23) -> 2 | V24: =SUM(V19:V23) -> 0 | W24: =SUM(W19:W23) -> 0 | ... Y24: =SUM(Y19:Y23) -> 0 | Z24: =SUM(P24:Y24) -> 10 | AA24: =SUM(AA19:AA23) -> 1 | AB24: =SUM(AB19:AB23) -> 1
A25: 40517 | B25: 2:00-3:00 | C25: 2 | D25: 1 | E25: 2 | F25: 2 | G25: 2 | H25: 2 | J25: 1 | K25: 1 | O25: 1 | Z25: =SUM(P25:Y25) -> 0
O26: 2 | Z26: =SUM(P26:Y26) -> 0
O27: 3 | Z27: =SUM(P27:Y27) -> 0
O28: 4 | P28: 1 | Z28: =SUM(P28:Y28) -> 1
O29: 5 | U29: 2 | Z29: =SUM(P29:Y29) -> 2
O30: Totals | P30: =SUM(P25:P29) -> 1 | Q30: =SUM(Q25:Q29) -> 0 | R30: =SUM(R25:R29) -> 0 | S30: =SUM(S25:S29) -> 0 | T30: =SUM(T25:T29) -> 0 | U30: =SUM(U25:U29) -> 2 | V30: =SUM(V25:V29) -> 0 | W30: =SUM(W25:W29) -> 0 | ... Y30: =SUM(Y25:Y29) -> 0 | Z30: =SUM(P30:Y30) -> 3 | AA30: =SUM(AA25:AA29) -> 0 | AB30: =SUM(AB25:AB29) -> 0
A31: 40516 | B31: 3:15-3:45 | C31: 1 | D31: 6 | E31: 1 | F31: 9 | G31: 2 | H31: 4 | I31: 2 | J31: 3 | K31: 1 | O31: 1 | Z31: =SUM(P31:Y31) -> 0
O32: 2 | R32: 1 | Z32: =SUM(P32:Y32) -> 1
O33: 3 | Z33: =SUM(P33:Y33) -> 0
O34: 4 | P34: 6 | Q34: 1 | R34: 3 | V34: 1 | Y34: 2 | Z34: =SUM(P34:Y34) -> 13
O35: 5 | T35: 1 | U35: 2 | Z35: =SUM(P35:Y35) -> 3
O36: Totals | P36: =SUM(P31:P35) -> 6 | Q36: =SUM(Q31:Q35) -> 1 | R36: =SUM(R31:R35) -> 4 | S36: =SUM(S31:S35) -> 0 | T36: =SUM(T31:T35) -> 1 | U36: =SUM(U31:U35) -> 2 | V36: =SUM(V31:V35) -> 1 | W36: =SUM(W31:W35) -> 0 | ... Y36: =SUM(Y31:Y35) -> 2 | Z36: =SUM(P36:Y36) -> 17 | AA36: =SUM(AA31:AA35) -> 0 | AB36: =SUM(AB31:AB35) -> 0
A37: 40516 | B37: 12:45-1:15 | C37: 2 | D37: 3 | E37: 1 | F37: 3 | G37: 3 | H37: 1 | K37: 1 | O37: 1 | Z37: =SUM(P37:Y37) -> 0
O38: 2 | Z38: =SUM(P38:Y38) -> 0
O39: 3 | Z39: =SUM(P39:Y39) -> 0
O40: 4 | P40: 5 | Z40: =SUM(P40:Y40) -> 5
O41: 5 | U41: 1 | Z41: =SUM(P41:Y41) -> 1 | AA41: 1
O42: Totals | P42: =SUM(P37:P41) -> 5 | Q42: =SUM(Q37:Q41) -> 0 | R42: =SUM(R37:R41) -> 0 | S42: =SUM(S37:S41) -> 0 | T42: =SUM(T37:T41) -> 0 | U42: =SUM(U37:U41) -> 1 | V42: =SUM(V37:V41) -> 0 | W42: =SUM(W37:W41) -> 0 | ... Y42: =SUM(Y37:Y41) -> 0 | Z42: =SUM(P42:Y42) -> 6 | AA42: =SUM(AA37:AA41) -> 1 | AB42: =SUM(AB37:AB41) -> 0
A43: 40516 | B43: 1:15-1:45 | C43: 4 | D43: 4 | E43: 6 | F43: 2 | G43: 3 | H43: 4 | J43: 1 | K43: 1 | O43: 1 | Z43: =SUM(P43:Y43) -> 0
O44: 2 | R44: 1 | Z44: =SUM(P44:Y44) -> 1
O45: 3 | Z45: =SUM(P45:Y45) -> 0
O46: 4 | P46: 5 | Z46: =SUM(P46:Y46) -> 5
O47: 5 | T47: 2 | U47: 4 | Z47: =SUM(P47:Y47) -> 6 | AB47: 1 | AF47: Fulton Free Day
O48: Totals | P48: =SUM(P43:P47) -> 5 | Q48: =SUM(Q43:Q47) -> 0 | R48: =SUM(R43:R47) -> 1 | S48: =SUM(S43:S47) -> 0 | T48: =SUM(T43:T47) -> 2 | U48: =SUM(U43:U47) -> 4 | V48: =SUM(V43:V47) -> 0 | W48: =SUM(W43:W47) -> 0 | ... Y48: =SUM(Y43:Y47) -> 0 | Z48: =SUM(P48:Y48) -> 12 | AA48: =SUM(AA43:AA47) -> 0 | AB48: =SUM(AB43:AB47) -> 1
A49: 40516 | B49: 11:35-12:05 | C49: 3 | D49: 1 | E49: 2 | F49: 5 | G49: 3 | H49: 4 | I49: 3 | K49: 1 | O49: 1 | Z49: =SUM(P49:Y49) -> 0
O50: 2 | U50: 2 | Z50: =SUM(P50:Y50) -> 2
O51: 3 | Z51: =SUM(P51:Y51) -> 0
O52: 4 | P52: 8 | Q52: 2 | R52: 1 | S52: 2 | Z52: =SUM(P52:Y52) -> 13
O53: 5 | Q53: 1 | U53: 5 | Z53: =SUM(P53:Y53) -> 6
O54: Totals | P54: 14 | Q54: =SUM(Q49:Q53) -> 3 | R54: =SUM(R49:R53) -> 1 | S54: =SUM(S49:S53) -> 2 | T54: =SUM(T49:T53) -> 0 | U54: =SUM(U49:U53) -> 7 | V54: =SUM(V49:V53) -> 0 | W54: =SUM(W49:W53) -> 0 | X54: =SUM(X49:X53) -> 0 | Y54: =SUM(Y49:Y53) -> 0 | Z54: =SUM(P54:Y54) -> 27 | AA54: =SUM(AA49:AA53) -> 0 | AB54: =SUM(AB49:AB53) -> 0
A55: 40506 | B55: 2:20-2:50 | C55: 2 | D55: 1 | E55: 2 | F55: 5 | G55: 2 | H55: 5 | J55: 2 | K55: 1 | O55: 1 | Z55: =SUM(P55:Y55) -> 0
O56: 2 | R56: 1 | Z56: =SUM(P56:Y56) -> 1
O57: 3 | Z57: =SUM(P57:Y57) -> 0
O58: 4 | P58: 5 | Q58: 4 | R58: 2 | Z58: =SUM(P58:Y58) -> 11
O59: 5 | S59: 1 | T59: 1 | U59: 7 | Z59: =SUM(P59:Y59) -> 9
O60: Totals | P60: 14 | Q60: =SUM(Q55:Q59) -> 4 | R60: =SUM(R55:R59) -> 3 | S60: =SUM(S55:S59) -> 1 | T60: =SUM(T55:T59) -> 1 | U60: =SUM(U55:U59) -> 7 | V60: =SUM(V55:V59) -> 0 | W60: =SUM(W55:W59) -> 0 | X60: =SUM(X55:X59) -> 0 | Y60: =SUM(Y55:Y59) -> 0 | Z60: =SUM(P60:Y60) -> 30 | AA60: =SUM(AA55:AA59) -> 0 | AB60: =SUM(AB55:AB59) -> 0
A61: 40506 | B61: 4:30-5:00 | C61: 3 | D61: 2 | E61: 3 | F61: 4 | G61: 1 | H61: 3 | J61: 2 | L61: 1 | O61: 1 | Z61: =SUM(P61:Y61) -> 0
O62: 2 | R62: 2 | Z62: =SUM(P62:Y62) -> 2
O63: 3 | Z63: =SUM(P63:Y63) -> 0
O64: 4 | P64: 4 | Q64: 3 | R64: 4 | Z64: =SUM(P64:Y64) -> 11
O65: 5 | R65: 1 | S65: 1 | U65: 5 | Z65: =SUM(P65:Y65) -> 7 | AB65: 1
O66: Totals | P66: 14 | Q66: =SUM(Q61:Q65) -> 3 | R66: =SUM(R61:R65) -> 7 | S66: =SUM(S61:S65) -> 1 | T66: =SUM(T61:T65) -> 0 | U66: =SUM(U61:U65) -> 5 | V66: =SUM(V61:V65) -> 0 | W66: =SUM(W61:W65) -> 0 | X66: =SUM(X61:X65) -> 0 | Y66: =SUM(Y61:Y65) -> 0 | Z66: =SUM(P66:Y66) -> 30 | AA66: =SUM(AA61:AA65) -> 0 | AB66: =SUM(AB61:AB65) -> 1
A67: 40506 | B67: 3:15-3:45 | D67: 1 | E67: 3 | G67: 1 | K67: 1 | O67: 1 | Z67: =SUM(P67:Y67) -> 0
O68: 2 | Z68: =SUM(P68:Y68) -> 0
O69: 3 | Z69: =SUM(P69:Y69) -> 0
O70: 4 | P70: 1 | Z70: =SUM(P70:Y70) -> 1
O71: 5 | U71: 2 | Z71: =SUM(P71:Y71) -> 2
O72: Totals | P72: 14 | Q72: =SUM(Q67:Q71) -> 0 | R72: =SUM(R67:R71) -> 0 | S72: =SUM(S67:S71) -> 0 | T72: =SUM(T67:T71) -> 0 | U72: =SUM(U67:U71) -> 2 | V72: =SUM(V67:V71) -> 0 | W72: =SUM(W67:W71) -> 0 | X72: =SUM(X67:X71) -> 0 | Y72: =SUM(Y67:Y71) -> 0 | Z72: =SUM(P72:Y72) -> 16 | AA72: =SUM(AA67:AA71) -> 0 | AB72: =SUM(AB67:AB71) -> 0
A73: 40506 | B73: 1:45-2:15 | C73: 1 | D73: 3 | E73: 5 | F73: 3 | G73: 2 | H73: 6 | I73: 2 | J73: 9 | L73: 1 | O73: 1 | Z73: =SUM(P73:Y73) -> 0 | AF73: Many visitors seem to start with Making a Mark station. May be due to proximity to the door or familiar play that needs no explaining.
O74: 2 | Z74: =SUM(P74:Y74) -> 0
O75: 3 | Z75: =SUM(P75:Y75) -> 0
O76: 4 | P76: 9 | Q76: 6 | R76: 5 | Z76: =SUM(P76:Y76) -> 20
O77: 5 | R77: 2 | T77: 3 | U77: 13 | Z77: =SUM(P77:Y77) -> 18 | AA77: 1
O78: Totals | P78: 14 | Q78: =SUM(Q73:Q77) -> 6 | R78: =SUM(R73:R77) -> 7 | S78: =SUM(S73:S77) -> 0 | T78: =SUM(T73:T77) -> 3 | U78: =SUM(U73:U77) -> 13 | V78: =SUM(V73:V77) -> 0 | W78: =SUM(W73:W77) -> 0 | X78: =SUM(X73:X77) -> 0 | Y78: =SUM(Y73:Y77) -> 0 | Z78: =SUM(P78:Y78) -> 43 | AA78: =SUM(AA73:AA77) -> 1 | AB78: =SUM(AB73:AB77) -> 0
A79: 40506 | B79: 11:45-12:15 | C79: 1 | D79: 4 | E79: 5 | F79: 4 | G79: 1 | H79: 5 | J79: 5 | L79: 1 | O79: 1 | P79: 2 | S79: 1 | Z79: =SUM(P79:Y79) -> 3
O80: 2 | Z80: =SUM(P80:Y80) -> 0
O81: 3 | Z81: =SUM(P81:Y81) -> 0
O82: 4 | P82: 7 | Q82: 2 | R82: 2 | S82: 1 | Z82: =SUM(P82:Y82) -> 12
O83: 5 | P83: 3 | Q83: 2 | T83: 1 | U83: 7 | Z83: =SUM(P83:Y83) -> 13 | AA83: 1 | AB83: 1
O84: Totals | P84: 14 | Q84: =SUM(Q79:Q83) -> 4 | R84: =SUM(R79:R83) -> 2 | S84: =SUM(S79:S83) -> 2 | T84: =SUM(T79:T83) -> 1 | U84: =SUM(U79:U83) -> 7 | V84: =SUM(V79:V83) -> 0 | W84: =SUM(W79:W83) -> 0 | X84: =SUM(X79:X83) -> 0 | Y84: =SUM(Y79:Y83) -> 0 | Z84: =SUM(P84:Y84) -> 30 | AA84: =SUM(AA79:AA83) -> 1 | AB84: =SUM(AB79:AB83) -> 1
A87: Total hours observing | B87: 6
C94: Total Males | D94: Total Females | E94: Total Boys | F94: Total Girls | G94: Total under age 5 | H94: Total aged between 5 - 12 | I94: No. who visit, look and leave | J94: Number of repeat visitors | K94: 0-30% | L94: 30-50% | M94: 50 -100%+ | N94: Present Yes =1 No=0 | P94: A → C | Q94: C→ A | R94: C → C | S94: A → A | T94: A | U94: C | V94: A → S | W94: S→ A | X94: C→ S | Y94: S→ C | Z94: TOTALS | AC94: no who look - do not interact | AD94: Number of repeat visitors | AE94: Visitors | AF94: Total Visitors
C95: =C13+C19+C25+C31+C37+C43+C49+C55+C61+C67+C73+C79 -> 19 | D95: =D13+D19+D25+D31+D37+D43+D49+D55+D61+D67+D73+D79 -> 35 | E95: =E13+E19+E25+E31+E37+E43+E49+E55+E61+E67+E73+E79 -> 36 | F95: =F13+F19+F25+F31+F37+F43+F49+F55+F61+F67+F73+F79 -> 43 | G95: =G13+G19+G25+G31+G37+G43+G49+G55+G61+G67+G73+G79 -> 30 | H95: =H13+H19+H25+H31+H37+H43+H49+H55+H61+H67+H73+H79 -> 36 | I95: =I13+I19+I25+I31+I37+I43+I49+I55+I61+I67+I73+I79 -> 9 | J95: =J13+J19+J25+J31+J37+J43+J49+J55+J61+J67+J73+J79 -> 27 | ... N95: =N13+N19+N25+N31+N37+N43+N49+N55+N61+N67+N73+N79 -> 0 | O95: 1 | P95: =P13+P19+P25+P31+P37+P43+P49+P55+P61+P67+P73+P79 -> 2 | Q95: =Q13+Q19+Q25+Q31+Q37+Q43+Q49+Q55+Q61+Q67+Q73+Q79 -> 0 | R95: =R13+R19+R25+R31+R37+R43+R49+R55+R61+R67+R73+R79 -> 0 | S95: =S13+S19+S25+S31+S37+S43+S49+S55+S61+S67+S73+S79 -> 1 | T95: =T13+T19+T25+T31+T37+T43+T49+T55+T61+T67+T73+T79 -> 0 | U95: =U13+U19+U25+U31+U37+U43+U49+U55+U61+U67+U73+U79 -> 4 | V95: =V13+V19+V25+V31+V37+V43+V49+V55+V61+V67+V73+V79 -> 0 | W95: =W13+W19+W25+W31+W37+W43+W49+W55+W61+W67+W73+W79 -> 0 | ... Y95: =Y13+Y19+Y25+Y31+Y37+Y43+Y49+Y55+Y61+Y67+Y73+Y79 -> 0 | Z95: =SUM(P95:Y95) -> 7 | AA95: =Z95/Z100 -> 0.034482759 | AC95: =I95 -> 9 | AD95: =J95 -> 27 | AE95: =C99 -> 133 | AF95: =AE95+AD95+AC95 -> 169
I96: =I95/I97 -> 0.25 | J96: =J95/I97 -> 0.75 | K96: =K95/K97 -> 0.75 | L96: =L95/K97 -> 0.25 | M96: =M95/L97 -> #DIV/0! | O96: 2 | P96: =P14+P20+P26+P32+P38+P44+P50+P56+P62+P68+P74+P80 -> 1 | Q96: =Q14+Q20+Q26+Q32+Q38+Q44+Q50+Q56+Q62+Q68+Q74+Q80 -> 0 | R96: =R14+R20+R26+R32+R38+R44+R50+R56+R62+R68+R74+R80 -> 7 | S96: =S14+S20+S26+S32+S38+S44+S50+S56+S62+S68+S74+S80 -> 0 | T96: =T14+T20+T26+T32+T38+T44+T50+T56+T62+T68+T74+T80 -> 0 | U96: =U14+U20+U26+U32+U38+U44+U50+U56+U62+U68+U74+U80 -> 4 | V96: =V14+V20+V26+V32+V38+V44+V50+V56+V62+V68+V74+V80 -> 0 | W96: =W14+W20+W26+W32+W38+W44+W50+W56+W62+W68+W74+W80 -> 0 | ... Y96: =Y14+Y20+Y26+Y32+Y38+Y44+Y50+Y56+Y62+Y68+Y74+Y80 -> 0 | Z96: =SUM(P96:Y96) -> 12 | AA96: =Z96/Z100 -> 0.0591133 | AC96: =AC95/AF95 -> 0.053254438 | AD96: =AD95/AF95 -> 0.15976331 | AE96: =AE95/AF95 -> 0.78698225
B97: Adults | C97: =C95+D95 -> 54 | E97: =C97/C99 -> 0.40601504 | I97: =I95+J95 -> 36 | K97: =K95+L95 -> 12 | O97: 3 | P97: =P15+P21+P27+P33+P39+P45+P51+P57+P63+P69+P75+P81 -> 0 | Q97: =Q15+Q21+Q27+Q33+Q39+Q45+Q51+Q57+Q63+Q69+Q75+Q81 -> 0 | R97: =R15+R21+R27+R33+R39+R45+R51+R57+R63+R69+R75+R81 -> 0 | S97: =S15+S21+S27+S33+S39+S45+S51+S57+S63+S69+S75+S81 -> 0 | T97: =T15+T21+T27+T33+T39+T45+T51+T57+T63+T69+T75+T81 -> 0 | U97: =U15+U21+U27+U33+U39+U45+U51+U57+U63+U69+U75+U81 -> 0 | V97: =V15+V21+V27+V33+V39+V45+V51+V57+V63+V69+V75+V81 -> 0 | W97: =W15+W21+W27+W33+W39+W45+W51+W57+W63+W69+W75+W81 -> 0 | ... Y97: =Y15+Y21+Y27+Y33+Y39+Y45+Y51+Y57+Y63+Y69+Y75+Y81 -> 0 | Z97: =SUM(P97:Y97) -> 0 | AA97: =Z97/Z100 -> 0 | AD97: =AD95/AE95 -> 0.20300752
B98: Children | C98: =E95+F95 -> 79 | E98: =C98/C99 -> 0.59398496 | K98: =K95/K99 -> 0.75 | L98: =L95/K99 -> 0.25 | O98: 4 | P98: =P16+P22+P28+P34+P40+P46+P52+P58+P64+P70+P76+P82 -> 60 | Q98: =Q16+Q22+Q28+Q34+Q40+Q46+Q52+Q58+Q64+Q70+Q76+Q82 -> 24 | R98: =R16+R22+R28+R34+R40+R46+R52+R58+R64+R70+R76+R82 -> 17 | S98: =S16+S22+S28+S34+S40+S46+S52+S58+S64+S70+S76+S82 -> 3 | T98: =T16+T22+T28+T34+T40+T46+T52+T58+T64+T70+T76+T82 -> 0 | U98: =U16+U22+U28+U34+U40+U46+U52+U58+U64+U70+U76+U82 -> 0 | V98: =V16+V22+V28+V34+V40+V46+V52+V58+V64+V70+V76+V82 -> 1 | W98: =W16+W22+W28+W34+W40+W46+W52+W58+W64+W70+W76+W82 -> 0 | ... Y98: =Y16+Y22+Y28+Y34+Y40+Y46+Y52+Y58+Y64+Y70+Y76+Y82 -> 2 | Z98: =SUM(P98:Y98) -> 108 | AA98: =Z98/Z100 -> 0.5320197
B99: Totals | C99: =SUM(C97:C98) -> 133 | K99: 12 | O99: 5 | P99: =P17+P23+P29+P35+P41+P47+P53+P59+P65+P71+P77+P83 -> 3 | Q99: =Q17+Q23+Q29+Q35+Q41+Q47+Q53+Q59+Q65+Q71+Q77+Q83 -> 3 | R99: =R17+R23+R29+R35+R41+R47+R53+R59+R65+R71+R77+R83 -> 3 | S99: =S17+S23+S29+S35+S41+S47+S53+S59+S65+S71+S77+S83 -> 2 | T99: =T17+T23+T29+T35+T41+T47+T53+T59+T65+T71+T77+T83 -> 11 | U99: =U17+U23+U29+U35+U41+U47+U53+U59+U65+U71+U77+U83 -> 54 | V99: =V17+V23+V29+V35+V41+V47+V53+V59+V65+V71+V77+V83 -> 0 | W99: =W17+W23+W29+W35+W41+W47+W53+W59+W65+W71+W77+W83 -> 0 | ... Y99: =Y17+Y23+Y29+Y35+Y41+Y47+Y53+Y59+Y65+Y71+Y77+Y83 -> 0 | Z99: =SUM(P99:Y99) -> 76 | AA99: =Z99/Z100 -> 0.37438424
P100: =SUM(P95:P99) -> 66 | Q100: =SUM(Q95:Q99) -> 27 | R100: =SUM(R95:R99) -> 27 | S100: =SUM(S95:S99) -> 6 | T100: =SUM(T95:T99) -> 11 | U100: =SUM(U95:U99) -> 62 | V100: =SUM(V95:V99) -> 1 | W100: =SUM(W95:W99) -> 0 | ... Z100: =SUM(Z95:Z99) -> 203
B101: Under 5 | C101: =G95 -> 30 | D101: =C101/C98 -> 0.37974684 | P101: =P100/Z100 -> 0.32512315 | Q101: =Q100/Z100 -> 0.13300493 | R101: =R100/Z100 -> 0.13300493 | S101: =S100/Z100 -> 0.02955665 | T101: =T100/Z100 -> 0.054187192 | U101: =U100/Z100 -> 0.30541872 | V101: =V100/Z100 -> 0.0049261084 | W101: =W100/Z100 -> 0 | X101: =X100/Z100 -> 0.0049261084 | Y101: =Y100/Z100 -> 0.0098522167
B102: Total between 5 - 12 | C102: =H95 -> 36 | D102: =C102/C99 -> 0.27067669
B103: Total | C103: =SUM(C101:C102) -> 66 | P103: A → C | Q103: C→ A | R103: C → C | S103: A → A | T103: A | U103: C | V103: A → S | W103: S→ A | X103: C→ S | Y103: S→ C | AB103: Connection | AC103: Observing others | AD103: Read | AE103: Directed | AF103: Self-initiated
O104: 1 | P104: =P95/Z95 -> 0.28571429 | Q104: =Q95/Z95 -> 0 | R104: =R95/Z95 -> 0 | S104: =S95/Z95 -> 0.14285714 | T104: =T95/Z95 -> 0 | U104: =U95/Z95 -> 0.57142857 | V104: =V95/Z95 -> 0 | W104: =W95/Z95 -> 0 | X104: =X95/Z95 -> 0 | Y104: =Y95/Z95 -> 0 | Z104: =AA95 -> 0.034482759 | AB104: =Z104 -> 0.034482759 | AC104: =Z105 -> 0.0591133 | AD104: =Z106 -> 0 | AE104: =Z107 -> 0.5320197 | AF104: =Z108 -> 0.37438424
B105: Over age of 12 | C105: =C98-C103 -> 13 | D105: =C105/C98 -> 0.16455696 | O105: 2 | P105: =P96/Z96 -> 0.083333333 | Q105: =Q96/Z96 -> 0 | R105: =R96/Z96 -> 0.58333333 | S105: =S96/Z96 -> 0 | T105: =T96/Z96 -> 0 | U105: =U96/Z96 -> 0.33333333 | V105: =V96/Z96 -> 0 | W105: =W96/Z96 -> 0 | X105: =X96/Z96 -> 0 | Y105: =Y96/Z96 -> 0 | Z105: =AA96 -> 0.0591133
O106: 3 | P106: =P97/Z97 -> #DIV/0! | Q106: =P97/Z97 -> #DIV/0! | R106: =P97/Z97 -> #DIV/0! | S106: =P97/Z97 -> #DIV/0! | T106: =P97/Z97 -> #DIV/0! | U106: =P97/Z97 -> #DIV/0! | V106: =P97/Z97 -> #DIV/0! | W106: =P97/Z97 -> #DIV/0! | X106: =P97/Z97 -> #DIV/0! | Y106: =Y97/AI97 -> #DIV/0! | Z106: =AA97 -> 0
O107: 4 | P107: =P98/Z98 -> 0.55555556 | Q107: =Q98/Z98 -> 0.22222222 | R107: =R98/Z98 -> 0.15740741 | S107: =S98/Z98 -> 0.027777778 | T107: =T98/Z98 -> 0 | U107: =U98/Z98 -> 0 | V107: =V98/Z98 -> 0.0092592593 | W107: =W98/Z98 -> 0 | X107: =X98/Z98 -> 0.0092592593 | Y107: =Y98/Z98 -> 0.018518519 | Z107: =AA98 -> 0.5320197
O108: 5 | P108: =P99/Z99 -> 0.039473684 | Q108: =Q99/Z99 -> 0.039473684 | R108: =R99/Z99 -> 0.039473684 | S108: =S99/Z99 -> 0.026315789 | T108: =T99/Z99 -> 0.14473684 | U108: =U99/Z99 -> 0.71052632 | V108: =V99/Z99 -> 0 | W108: =W99/Z99 -> 0 | X108: =X99/Z99 -> 0 | Y108: =Y99/Z99 -> 0 | Z108: =AA99 -> 0.37438424
O110: Making a Mark
O111: 53% directed activity predomintly through Adult to Child interaction, with some 22% child to adult direction
O112: 37% self initiated activity with 71% of that by children and 14% adults.
B113: Behaviors | C113: Using objects from other stations | O113: Limited link to exhibitions and activity initiated by observing others
C114: Yes | D114: No | E114: Totals | F114: Total visitors

Sheet Example Summary
A1: Bridge Study
A4: Database Onsite Observations
A5: Museum: High Museum of Art - Greene Family Learning Gallery
A6: Station: Making a Mark: Charts
A10: Data gathered represents 6 hours of observations in the Greene Family Learning Gallery
